BEGIN:VCALENDAR
VERSION:2.0
PRODID:-//Our Saviour&#039;s Lutheran Church - ECPv6.15.17.1//NONSGML v1.0//EN
CALSCALE:GREGORIAN
METHOD:PUBLISH
X-ORIGINAL-URL:https://osel.org
X-WR-CALDESC:Events for Our Saviour&#039;s Lutheran Church
REFRESH-INTERVAL;VALUE=DURATION:PT1H
X-Robots-Tag:noindex
X-PUBLISHED-TTL:PT1H
BEGIN:VTIMEZONE
TZID:America/Chicago
BEGIN:DAYLIGHT
TZOFFSETFROM:-0600
TZOFFSETTO:-0500
TZNAME:CDT
DTSTART:20250309T080000
END:DAYLIGHT
BEGIN:STANDARD
TZOFFSETFROM:-0500
TZOFFSETTO:-0600
TZNAME:CST
DTSTART:20251102T070000
END:STANDARD
BEGIN:DAYLIGHT
TZOFFSETFROM:-0600
TZOFFSETTO:-0500
TZNAME:CDT
DTSTART:20260308T080000
END:DAYLIGHT
BEGIN:STANDARD
TZOFFSETFROM:-0500
TZOFFSETTO:-0600
TZNAME:CST
DTSTART:20261101T070000
END:STANDARD
BEGIN:DAYLIGHT
TZOFFSETFROM:-0600
TZOFFSETTO:-0500
TZNAME:CDT
DTSTART:20270314T080000
END:DAYLIGHT
BEGIN:STANDARD
TZOFFSETFROM:-0500
TZOFFSETTO:-0600
TZNAME:CST
DTSTART:20271107T070000
END:STANDARD
END:VTIMEZONE
BEGIN:VEVENT
DTSTART;TZID=America/Chicago:20260103T120000
DTEND;TZID=America/Chicago:20260103T134500
DTSTAMP:20260422T035431
CREATED:20251218T203149Z
LAST-MODIFIED:20251218T203149Z
UID:11061-1767441600-1767447900@osel.org
SUMMARY:Community Outreach - Feed My Starving Children
DESCRIPTION:We are getting a group together to go to Feed my Starving Children! Please join us Saturday\, January 3rd from 12:00pm -1:45 pm \nWe will meet there: Feed My Starving Children – 990 Lone Oak Rd. #136 Eagan\, MN 55121 \nClick here to sign up! \nSusie Stoltz will meet attendees at the site for a day of packing MannaPack meals for the hungry. Call the church office at 651-437-9052 if you have any questions.
URL:https://osel.org/event/community-outreach-feed-my-starving-children/
LOCATION:Feed My Starving Children\, 990 Lone Oak Rd\, Eagan\, Minnesota\, 55121
ATTACH;FMTTYPE=image/jpeg:https://osel.org/wp-content/uploads/2025/12/FMSC-Graphic-e1766089886954.jpg
END:VEVENT
END:VCALENDAR